BEGIN:VCALENDAR
PRODID:-//AT Content Types//AT Event//EN
VERSION:1.0
BEGIN:VEVENT
DTSTART:20211009T090000Z
DTEND:20211009T183000Z
DCREATED:20210928T125654Z
UID:ATEvent-c8e8710a743943c1918db9e0e01d8974
SEQUENCE:0
LAST-MODIFIED:20210928T125701Z
SUMMARY:1r Festivalent@
PRIORITY:3
TRANSP:0
END:VEVENT
END:VCALENDAR
