BEGIN:VCALENDAR
PRODID:-//AT Content Types//AT Event//EN
VERSION:1.0
BEGIN:VEVENT
DTSTART:20230610T071000Z
DTEND:20230611T201000Z
DCREATED:20230301T080808Z
UID:ATEvent-f781eae84d144f5d931b2d0f3a10e84a
SEQUENCE:0
LAST-MODIFIED:20230301T081132Z
SUMMARY:XXVII MERCAT MEDIEVAL 2023
PRIORITY:3
TRANSP:0
END:VEVENT
END:VCALENDAR
